BEGIN:VCALENDAR
PRODID:-//www.prestosports.com//PrestoSports//EN
VERSION:2.0
CALSCALE:GREGORIAN
BEGIN:VEVENT
DTSTAMP:20240411T100243Z
DTSTART:20231129T220000Z
DURATION:PT3H
SUMMARY:(Women's Volleyball) CIU (SC) vs. Viterbo
TRANSP:TRANSPARENT
CATEGORIES:Women's Volleyball
LOCATION:Sioux City\, IA
DESCRIPTION:Women's Volleyball: (Women's Volleyball) CIU (SC) vs. Viterbo\, NAIA WVB Championship Pool Play\, Final\, 3-0
UID:m9y9venp4t33zmbw@prestosports.com
END:VEVENT
BEGIN:VEVENT
DTSTAMP:20240411T100243Z
DTSTART:20231201T220000Z
DURATION:PT3H
SUMMARY:(Women's Volleyball) Southern Oregon vs. Viterbo
TRANSP:TRANSPARENT
CATEGORIES:Women's Volleyball
LOCATION:Sioux City\, Iowa
DESCRIPTION:Women's Volleyball: (Women's Volleyball) Southern Oregon vs. Viterbo\, NAIA WVB Championship Pool Play\, Final\, 3-0
UID:12al2xginv8q9rim@prestosports.com
END:VEVENT
END:VCALENDAR
