BEGIN:VCALENDAR
PRODID:-//www.prestosports.com//PrestoSports//EN
VERSION:2.0
CALSCALE:GREGORIAN
BEGIN:VEVENT
DTSTAMP:20240411T100251Z
DTSTART:20231201T010000Z
DURATION:PT3H
SUMMARY:(Women's Volleyball) St. Thomas vs. Jamestown (N.D.)
TRANSP:TRANSPARENT
CATEGORIES:Women's Volleyball
LOCATION:Sioux City\, IA
DESCRIPTION:Women's Volleyball: (Women's Volleyball) St. Thomas vs. Jamestown (N.D.)\, NAIA WVB Championship Pool Play\, Final\, 3-0
UID:0lup5kdvq0pz1b61@prestosports.com
END:VEVENT
BEGIN:VEVENT
DTSTAMP:20240411T100251Z
DTSTART:20231202T010000Z
DURATION:PT3H
SUMMARY:(Women's Volleyball) Jamestown (N.D.) vs. Corban (OR)
TRANSP:TRANSPARENT
CATEGORIES:Women's Volleyball
LOCATION:Sioux City\, Iowa
DESCRIPTION:Women's Volleyball: (Women's Volleyball) Jamestown (N.D.) vs. Corban (OR)\, NAIA WVB Championship Pool Play\, Final\, 1-3
UID:t83yrdo5jmycuut3@prestosports.com
END:VEVENT
END:VCALENDAR
