BEGIN:VCALENDAR
PRODID:-//www.prestosports.com//PrestoSports//EN
VERSION:2.0
CALSCALE:GREGORIAN
BEGIN:VEVENT
DTSTAMP:20240411T100235Z
DTSTART:20231129T160000Z
DURATION:PT3H
SUMMARY:(Women's Volleyball) St. Ambrose (IA) vs. Northwestern (Iowa)
TRANSP:TRANSPARENT
CATEGORIES:Women's Volleyball
LOCATION:Sioux City\, IA
DESCRIPTION:Women's Volleyball: (Women's Volleyball) St. Ambrose (IA) vs. Northwestern (Iowa)\, NAIA WVB Championship Pool Play\, Final\, 1-3
UID:o9ynyluzlhhhrt42@prestosports.com
END:VEVENT
BEGIN:VEVENT
DTSTAMP:20240411T100235Z
DTSTART:20231130T160000Z
DURATION:PT3H
SUMMARY:(Women's Volleyball) St. Ambrose (IA) vs. Bellevue (Neb.)
TRANSP:TRANSPARENT
CATEGORIES:Women's Volleyball
LOCATION:Sioux City\, IA
DESCRIPTION:Women's Volleyball: (Women's Volleyball) St. Ambrose (IA) vs. Bellevue (Neb.)\, NAIA WVB Championship Pool Play\, Final\, 2-3
UID:gzztn27h572dy746@prestosports.com
END:VEVENT
END:VCALENDAR
