BEGIN:VCALENDAR
PRODID:-//www.prestosports.com//PrestoSports//EN
VERSION:2.0
CALSCALE:GREGORIAN
BEGIN:VEVENT
DTSTAMP:20240411T100241Z
DTSTART:20231201T010000Z
DURATION:PT3H
SUMMARY:(Women's Volleyball) Mount Vernon Nazarene (OH) vs. Columbia (MO)
TRANSP:TRANSPARENT
CATEGORIES:Women's Volleyball
LOCATION:Sioux City\, IA
DESCRIPTION:Women's Volleyball: (Women's Volleyball) Mount Vernon Nazarene (OH) vs. Columbia (MO)\, NAIA WVB Championship Pool Play\, Final\, 3-0
UID:nlyz6t1s0brgg20a@prestosports.com
END:VEVENT
BEGIN:VEVENT
DTSTAMP:20240411T100241Z
DTSTART:20231202T010000Z
DURATION:PT3H
SUMMARY:(Women's Volleyball) Columbia (MO) vs. Park
TRANSP:TRANSPARENT
CATEGORIES:Women's Volleyball
LOCATION:Sioux City\, IA
DESCRIPTION:Women's Volleyball: (Women's Volleyball) Columbia (MO) vs. Park\, NAIA WVB Championship Pool Play \, Final\, 3-0
UID:v93cewf1pizlzmq1@prestosports.com
END:VEVENT
END:VCALENDAR
